Workbook
Name MANO: [1]MANO!$A$3:$C$26

Sheet PRESUPUESTO
A2: BENEMÉRITO CUERPO DE BOMBEROS DEL CANTÓN PAJÁN
A3: CRNL. ROBERTO PEÑAFIEL RODRÍGUEZ
A4: Fundado el 30 de Marzo de 1953 Ratificado Acuerdo Ministerial 1009
A5: ABNEGACIÓN Y DISCIPLINA
A6: PROVINCIA DE MANABÍ- ECUADOR
A7: PRESUPUESTO REFERENCIAL
A8: PROYECTO: | B8: =+FORMATO!C9 -> MANTENIMIENTO INTEGRAL DE LA COMPAÑIA DE CUERPO DE BOMBERO CASCOL PERTENECIENTE AL CANTON PAJAN
A9: ELABORACIÓN:
A10: UBICACIÓN: | B10: =+FORMATO!C10 -> CANTON PAJAN
C11: FECHA: | D11: =+FORMATO!C8 -> PAJAN, AGOSTO DE 2025
A12: ITEM | B12: DESCRIPCION | C12: UNIDAD | D12: CANTIDAD | E12: PRECIO UNITARIO | F12: PRECIO TOTAL
A13: A | B13: COMPAÑÍA DE BOMBERO DE CASCOL
A14: 1 | B14: DEMOLICION DE ESCTRUCTURAS DE HORMIGON | C14: M2 | D14: =+CANTIDADES!F19 -> 14.1 | E14: =+' ANALISIS '!H55 -> 4.1 | F14: =+D14*E14 -> 57.81
A15: =A14+1 -> 2 | B15: HORMIGÓN SIMPLE PARA CONTRAPISO DE ESP. = 5 CM F´C = 210 KG/CM3 | C15: M2 | D15: =+CANTIDADES!F37 -> 48.69 | E15: =+' ANALISIS '!H113 -> 18 | F15: =+D15*E15 -> 876.42
A16: =+A15+1 -> 3 | B16: REMOCION DE CERAMICA EXISTENTE EN PISOS Y PAREDES | C16: U | D16: =+CANTIDADES!F49 -> 1 | E16: =+' ANALISIS '!H173 -> 300 | F16: =+D16*E16 -> 300
A17: =+A16+1 -> 4 | B17: ENLUCIDO EXTERIOR .E= 2,0 CM | C17: M2 | D17: =+CANTIDADES!F61 -> 64 | E17: =+' ANALISIS '!H233 -> 11.75 | F17: =+D17*E17 -> 752
A18: =+A17+1 -> 5 | B18: DESINTALACION DE PANEL DE BREAKER Y RED DE INSTALACION ELECTRICA EXISTENTE | C18: U | D18: 1 | E18: =+' ANALISIS '!H293 -> 90 | F18: =+D18*E18 -> 90
A19: =+A18+1 -> 6 | B19: SUMINISTRO E INSTALACION DE PANEL DE BREACKER | C19: U | D19: 1 | E19: =+' ANALISIS '!H351 -> 400 | F19: =+D19*E19 -> 400
A20: =+A19+1 -> 7 | B20: IMPERMEABILIZADA Y ELIMINACION DE SALITRE EN MAMPOSTERIA | C20: M2 | D20: =+CANTIDADES!F99 -> 92.61 | E20: =+' ANALISIS '!H412 -> 9 | F20: =+D20*E20 -> 833.49
A21: =+A20+1 -> 8 | B21: PINTURA ESMALTE EXTERIOR (LIJADO, EMPASTE, SELLADOR Y DOS MANOS DE PINTURA) | C21: M2 | D21: =+CANTIDADES!F119 -> 183.55 | E21: =+' ANALISIS '!H472 -> 7.4 | F21: =+D21*E21 -> 1358.27
A22: =+A21+1 -> 9 | B22: PINTURA ESMALTE INTERIOR (LIJADO, EMPASTE, SELLADOR Y DOS MANOS DE PINTURA) | C22: M2 | D22: =+CANTIDADES!F147 -> 151.55 | E22: =+' ANALISIS '!H532 -> 6.4 | F22: =+D22*E22 -> 969.92
A23: =+A22+1 -> 10 | B23: PINTURA ANTICORROSIVA EN PERFILES DE CUBIERTA | C23: U | D23: 1 | E23: =+' ANALISIS '!H591 -> 400 | F23: =+D23*E23 -> 400
A24: =+A23+1 -> 11 | B24: MANTENIMIENTO DE PUERTA DE INGRESO (INCLUYE PINTURA Y PLANCHA MICROPERFORADA | C24: U | D24: 1 | E24: =+' ANALISIS '!H650 -> 906.8 | F24: =+D24*E24 -> 906.8
A25: =+A24+1 -> 12 | B25: CERÁMICA PISO DE EXCELENTE CALIDAD | C25: M2 | D25: =+CANTIDADES!F188 -> 48.69 | E25: =+' ANALISIS '!H710 -> 26 | F25: =+D25*E25 -> 1265.94
A26: =+A25+1 -> 13 | B26: CERÁMICA EN PAREDES DE EXCELENTE CALIDAD | C26: M2 | D26: =+CANTIDADES!F205 -> 18.5 | E26: =+' ANALISIS '!H770 -> 24.1 | F26: =+D26*E26 -> 445.85
A27: =+A26+1 -> 14 | B27: SUMINISTRO Y COLOCACION DE PLANCHA DE GRANITO (INCLUYE ACABADOS Y RODONES) | C27: M2 | D27: =+CANTIDADES!F222 -> 2.91 | E27: =+' ANALISIS '!H830 -> 99 | F27: =+D27*E27 -> 288.09 | G27: 99 | H27: =+D27*G27 -> 288.09
A28: =+A27+1 -> 15 | B28: SUMINISTRO E INSTALACION DE FREGADERO DE ACERO INOXIDABLE | C28: U | D28: 1 | E28: =+' ANALISIS '!H884 -> 155 | F28: =+D28*E28 -> 155
A29: =+A28+1 -> 16 | B29: PROVISIÓN E INSTALACIÓN DE TUMBADO FALSO DE PVC | C29: M2 | D29: =+CANTIDADES!F249 -> 51.75 | E29: 25.2 | F29: =+D29*E29 -> 1304.1 | G29: =+D29*E29 -> 1304.1
A30: =+A29+1 -> 17 | B30: DESINTALACION E INSTALACION DE PIEZAS SANITARIAS, INCLUYE LIMPIEZA DE LOS MISMOS Y CAMBIO DE HERRAJES | C30: U | D30: 4 | E30: =+' ANALISIS '!H998 -> 25 | F30: =+D30*E30 -> 100
A31: =+A30+1 -> 18 | B31: LOSETA DE HORMIGON ARMADO F´C 210KG/CM2 E= 5 CM PARA MESON | C31: M2 | D31: =+CANTIDADES!F275 -> 1.45 | E31: =+' ANALISIS '!H1058 -> 134.8 | F31: =+D31*E31 -> 195.46 | G31: 134.8 | H31: =+D31*G31 -> 195.46
A32: =+A31+1 -> 19 | B32: SUMINISTRO E INSTALACION DE PLANCHAS GYSUM PARA PAREDES CON ESTRUCTURA DRYWALL | C32: M2 | D32: =+CANTIDADES!F292 -> 35.84 | E32: =+' ANALISIS '!H1118 -> 36 | F32: =+D32*E32 -> 1290.24 | G32: PARED CORREDIZA DE DRYWALL POR EL LADO DEL CUARTO
A33: =+A32+1 -> 20 | B33: SUMINISTRO E INSTALACION DE PUERTA CORREDIZA DE ALUMINIO EN MEDIDA 0.90X2.00 M | C33: U | D33: 1 | E33: =+' ANALISIS '!H1178 -> 105 | F33: =+D33*E33 -> 105
A34: =+A33+1 -> 21 | B34: SUMINISTRO E INSTALACION DE PUERTA CORREDIZA DE ALUMINIO Y VIDRIO 0.80X2.00M | C34: U | D34: 1 | E34: =+' ANALISIS '!H1238 -> 130.2 | F34: =+D34*E34 -> 130.2
A35: =+A34+1 -> 22 | B35: VENTANAS DE ALUMINIO Y VIDRIO | C35: M2 | D35: 1.5 | E35: =+' ANALISIS '!H1292 -> 91.12 | F35: =+D35*E35 -> 136.68
A36: =+A35+1 -> 23 | B36: PUNTO DE LUZ DE 120 V | C36: PTO | D36: 12 | E36: =+' ANALISIS '!H1352 -> 40 | F36: =+D36*E36 -> 480
A37: =+A36+1 -> 24 | B37: SUMINISTRO E INSTALACION DE LUMINARIA LED | C37: U | D37: 12 | E37: =+' ANALISIS '!H1409 -> 30 | F37: =+D37*E37 -> 360
A38: =+A37+1 -> 25 | B38: PUNTO DE TOMACORRIENTE 120 V POLARIZADOS | C38: PTO | D38: 10 | E38: =+' ANALISIS '!H1467 -> 47.8 | F38: =+D38*E38 -> 478
A39: =+A38+1 -> 26 | B39: PUNTO DE TOMACORRIENTE 220 V POLARIZADOS | C39: PTO | D39: =+CANTIDADES!F350 -> 2 | E39: =+' ANALISIS '!H1526 -> 55 | F39: =+D39*E39 -> 110
A40: =+A39+1 -> 27 | B40: SUMINISTRO E INSTALACION EN PANELES DE ALUMINIO COMPUESTO | C40: M2 | D40: =+CANTIDADES!F369 -> 52.2 | E40: =+' ANALISIS '!H1581 -> 100 | F40: =+D40*E40 -> 5220
A41: =+A40+1 -> 28 | B41: SUMINISTRO E INSTALACION DE LAMPARAS DE EMERGENCIAS | C41: U | D41: 3 | E41: =+' ANALISIS '!H1642 -> 63.05 | F41: =+D41*E41 -> 189.15
...

Sheet   ANALISIS  
C4: BENEMÉRITO CUERPO DE BOMBEROS DEL CANTÓN PAJÁN
C5: CRNL. ROBERTO PEÑAFIEL RODRÍGUEZ
C8: ANÁLISIS DE PRECIOS UNITARIOS | D8: ANALISIS DE PRECIOS UNITARIOS | G8: =+FORMATO!$J$14 -> ITEM | H8: =+PRESUPUESTO!A14 -> 1
B9: =FORMATO!$B$4 -> RUBRO: | C9: =+PRESUPUESTO!B14 -> DEMOLICION DE ESCTRUCTURAS DE HORMIGON | G9: =+FORMATO!$J$15 -> UNIDAD | H9: =+PRESUPUESTO!C14 -> M2
B10: =FORMATO!$B$5 -> ELABORADO: | C10: =(FORMATO!$C$5) -> 0 | G10: =+FORMATO!$J$16 -> REND. | H10: =+ROUND(8/30.64,4) -> 0.2611
B11: =FORMATO!$B$9 -> PROYECTO: | C11: =+FORMATO!C9 -> MANTENIMIENTO INTEGRAL DE LA COMPAÑIA DE CUERPO DE BOMBERO CASCOL PERTENECIENTE AL CANTON PAJAN | I11: =+H55 -> 4.1
B12: EQUIPOS
B13: DESCRIPCION | D13: CANTIDAD | E13: TARIFA | F13: COSTO HORA | G13: RENDIMIENTO | H13: COSTO
D14: A | E14: B | F14: C=A*B | G14: R | H14: D=C*R
A15: 1600 | B15: Herramienta menor 5 % M/O | H15: =ROUND(H30*0.05,3) -> 0.117
A16: 1476 | B16: =INDEX(MATERIALES!$D$5:$D$1604,A16) -> martillo demoledor | D16: 1 | E16: =INDEX(MATERIALES!$F$5:$F$1604,A16) -> 3.5 | F16: =ROUND(E16*D16,3) -> 3.5 | G16: =+H10 -> 0.2611 | H16: =ROUND(F16*G16,3) -> 0.914
A17: 1600 | B17: =INDEX(MATERIALES!$D$5:$D$1604,A17) -> 0 | E17: =INDEX(MATERIALES!$F$5:$F$1604,A17) -> 0 | F17: =ROUND(E17*D17,3) -> 0 | H17: =ROUND(F17*G17,3) -> 0
A18: 1600 | B18: =INDEX(MATERIALES!$D$5:$D$1604,A18) -> 0 | E18: =INDEX(MATERIALES!$F$5:$F$1604,A18) -> 0 | F18: =ROUND(E18*D18,3) -> 0 | H18: =ROUND(F18*G18,3) -> 0
A19: 1600 | B19: SUBTOTAL M = | D19: 0 | F19: =ROUND(E19*D19,3) -> 0 | G19: 0 | H19: =ROUND(SUM(H15:H18),2) -> 1.03
B20: MANO DE OBRA
B21: DESCRIPCION | D21: CANTIDAD | E21: JORNAL /HR | F21: COSTO HORA | G21: RENDIMIENTO | H21: COSTO
D22: A | E22: B | F22: C=A*B | G22: R | H22: D=C*R
A23: 11 | B23: =INDEX('[2]MANO DE OBRA'!$C$5:$C$38,A23) -> Maestro (estr.ocp. C1) | D23: 1 | E23: =INDEX('MANO DE OBRA'!$F$5:$F$38,A23) -> 4.75 | F23: =ROUND(E23*D23,4) -> 4.75 | G23: =+H10 -> 0.2611 | H23: =ROUND(F23*G23,3) -> 1.24
A24: 1 | B24: =INDEX('[2]MANO DE OBRA'!$C$5:$C$38,A24) -> Peon (estr.ocp. E2) | D24: 1 | E24: =INDEX('MANO DE OBRA'!$F$5:$F$38,A24) -> 4.23 | F24: =ROUND(E24*D24,4) -> 4.23 | G24: =H10 -> 0.2611 | H24: =ROUND(F24*G24,3) -> 1.104
A25: 34 | B25: =INDEX('[2]MANO DE OBRA'!$C$5:$C$38,A25) -> 0 | E25: =INDEX('MANO DE OBRA'!$F$5:$F$38,A25) -> 0 | F25: =ROUND(E25*D25,4) -> 0 | H25: =ROUND(F25*G25,3) -> 0
A26: 34 | B26: =INDEX('[2]MANO DE OBRA'!$C$5:$C$38,A26) -> 0 | E26: =INDEX('MANO DE OBRA'!$F$5:$F$38,A26) -> 0 | F26: =ROUND(E26*D26,4) -> 0 | G26: =+G25 -> 0 | H26: =ROUND(F26*G26,3) -> 0
A27: 34 | B27: =INDEX('[2]MANO DE OBRA'!$C$5:$C$38,A27) -> 0 | E27: =INDEX('MANO DE OBRA'!$F$5:$F$38,A27) -> 0 | F27: =ROUND(E27*D27,4) -> 0 | H27: =ROUND(F27*G27,4) -> 0
A28: 34 | H28: =ROUND(F28*G28,4) -> 0
A29: 34 | H29: =ROUND(F29*G29,4) -> 0
A30: 34 | B30: SUBTOTAL N = | D30: 0 | F30: =ROUND(E30*D30,3) -> 0 | G30: 0 | H30: =ROUND(SUM(H23:H29),2) -> 2.34
B31: MATERIALES
B32: DESCRIPCION | E32: UNIDAD | F32: CANTIDAD | G32: PRECIO UNIT. | H32: COSTO
F33: A | G33: B | H33: C=A*B
A34: 1371 | B34: =INDEX(MATERIALES!$D$5:$D$1604,A34) -> Tub. PVC rig. Desague 2" 50mm. | E34: =INDEX([2]MATERIALES!$E$5:$E$1604,A34) -> ml | F34: 0.05 | G34: =INDEX([2]MATERIALES!$F$5:$F$1604,A34) -> 0.98666667 | H34: =ROUND(F34*G34,3) -> 0.049
A35: 1600 | B35: =INDEX(MATERIALES!$D$5:$D$1604,A35) -> 0 | E35: =INDEX([2]MATERIALES!$E$5:$E$1604,A35) -> 0 | G35: =INDEX([2]MATERIALES!$F$5:$F$1604,A35) -> 0 | H35: =ROUND(F35*G35,3) -> 0
A36: 1600 | B36: =INDEX(MATERIALES!$D$5:$D$1604,A36) -> 0 | E36: =INDEX([2]MATERIALES!$E$5:$E$1604,A36) -> 0 | G36: =INDEX([2]MATERIALES!$F$5:$F$1604,A36) -> 0 | H36: =ROUND(F36*G36,3) -> 0
A37: 1600 | B37: =INDEX(MATERIALES!$D$5:$D$1604,A37) -> 0 | E37: =INDEX([2]MATERIALES!$E$5:$E$1604,A37) -> 0 | G37: =INDEX([2]MATERIALES!$F$5:$F$1604,A37) -> 0 | H37: =ROUND(F37*G37,3) -> 0
A38: 1600 | B38: =INDEX(MATERIALES!$D$5:$D$1604,A38) -> 0 | E38: =INDEX([2]MATERIALES!$E$5:$E$1604,A38) -> 0 | G38: =INDEX([2]MATERIALES!$F$5:$F$1604,A38) -> 0 | H38: =ROUND(F38*G38,3) -> 0
A39: 1600 | B39: =INDEX(MATERIALES!$D$5:$D$1604,A39) -> 0 | E39: =INDEX([2]MATERIALES!$E$5:$E$1604,A39) -> 0 | G39: =INDEX([2]MATERIALES!$F$5:$F$1604,A39) -> 0 | H39: =ROUND(F39*G39,3) -> 0
A40: 1600 | B40: =INDEX(MATERIALES!$D$5:$D$1604,A40) -> 0 | E40: =INDEX([2]MATERIALES!$E$5:$E$1604,A40) -> 0 | G40: =INDEX([2]MATERIALES!$F$5:$F$1604,A40) -> 0 | H40: =ROUND(F40*G40,3) -> 0
A41: 1600 | B41: =INDEX(MATERIALES!$D$5:$D$1604,A41) -> 0 | E41: =INDEX([2]MATERIALES!$E$5:$E$1604,A41) -> 0 | G41: =INDEX([2]MATERIALES!$F$5:$F$1604,A41) -> 0 | H41: =ROUND(F41*G41,3) -> 0
A42: 1600 | B42: =INDEX(MATERIALES!$D$5:$D$1604,A42) -> 0 | E42: =INDEX([2]MATERIALES!$E$5:$E$1604,A42) -> 0 | G42: =INDEX([2]MATERIALES!$F$5:$F$1604,A42) -> 0 | H42: =ROUND(F42*G42,3) -> 0
B43: SUBTOTAL O = | D43: 0 | G43: 0 | H43: =ROUND(SUM(H34:H42),2) -> 0.05
B44: TRANSPORTE
B45: DESCRIPCION | E45: UNIDAD | F45: CANTIDAD | G45: TARIFA | H45: COSTO
...

Sheet CANTIDADES
A3: CALCULO DE CANTIDADES
A5: =+PRESUPUESTO!B13 -> COMPAÑÍA DE BOMBERO DE CASCOL
B11: =+PRESUPUESTO!B8 -> MANTENIMIENTO INTEGRAL DE LA COMPAÑIA DE CUERPO DE BOMBERO CASCOL PERTENECIENTE AL CANTON PAJAN
A12: =+PRESUPUESTO!A14 -> 1 | B12: =+PRESUPUESTO!B14 -> DEMOLICION DE ESCTRUCTURAS DE HORMIGON
A13: Refer. | C13: DIMENSIONES | F13: SUBTOTAL | H13: =+PRESUPUESTO!D14 -> 14.1
B14: # ELEMENTO | C14: A | D14: B
A15: DORMITORIO
A16: MAMPOSTERIA DE BAÑO Y COCINA | C16: 4.5 | D16: 2.8 | F16: =+C16*D16 -> 12.6
A17: COCINA
A18: MESON | C18: 0.6 | D18: 2.5 | F18: =+C18*D18 -> 1.5
F19: =ROUND(SUM(F16:F18),2) -> 14.1 | G19: =+PRESUPUESTO!C14 -> M2
B24: =+B11 -> MANTENIMIENTO INTEGRAL DE LA COMPAÑIA DE CUERPO DE BOMBERO CASCOL PERTENECIENTE AL CANTON PAJAN
A25: =+PRESUPUESTO!A15 -> 2 | B25: =+PRESUPUESTO!B15 -> HORMIGÓN SIMPLE PARA CONTRAPISO DE ESP. = 5 CM F´C = 210 KG/CM3
A26: Refer. | C26: DIMENSIONES | F26: SUBTOTAL | H26: =+PRESUPUESTO!D45 -> 19
B27: # ELEMENTO | C27: A | D27: B
A28: DORMITORIO
A29: DORMITORIO | C29: 4.75 | D29: 4.4 | F29: =+C29*D29 -> 20.9
A30: BAÑO DE DORMITORIO
A31: BAÑO | C31: 2.8 | D31: 1.5 | F31: =+C31*D31 -> 4.2
A32: COCINA
A33: COCINA | C33: 4.85 | D33: 4.4 | F33: =+C33*D33 -> 21.34
A34: BAÑO DE COCINA
A35: BAÑO | C35: 1.5 | D35: 1.5 | F35: =+C35*D35 -> 2.25
F37: =ROUND(SUM(F29:F36),2) -> 48.69 | G37: =+PRESUPUESTO!C15 -> M2
B42: =+B11 -> MANTENIMIENTO INTEGRAL DE LA COMPAÑIA DE CUERPO DE BOMBERO CASCOL PERTENECIENTE AL CANTON PAJAN
A43: =+PRESUPUESTO!A16 -> 3 | B43: =+PRESUPUESTO!B16 -> REMOCION DE CERAMICA EXISTENTE EN PISOS Y PAREDES
A44: Refer. | C44: DIMENSIONES | F44: SUBTOTAL | H44: =+PRESUPUESTO!#REF! -> #REF!
B45: # ELEMENTO | D45: U
A46: CERAMICA EXISTENTE | D46: 1 | F46: =+D46 -> 1
F49: =+ROUND(SUM(F46:F48),2) -> 1 | G49: =+PRESUPUESTO!C16 -> U
B54: =+B42 -> MANTENIMIENTO INTEGRAL DE LA COMPAÑIA DE CUERPO DE BOMBERO CASCOL PERTENECIENTE AL CANTON PAJAN
A55: =+PRESUPUESTO!A17 -> 4 | B55: =+PRESUPUESTO!B17 -> ENLUCIDO EXTERIOR .E= 2,0 CM
A56: Refer. | C56: DIMENSIONES | F56: SUBTOTAL | H56: =+PRESUPUESTO!#REF! -> #REF!
B57: # ELEMENTO | C57: A | D57: B
A58: MAMPOSTERIA EXTERIOR LADO DERECHO | C58: 17.25 | D58: 3.71 | F58: =+C58*D58 -> 63.9975
F61: =+ROUND(SUM(F58:F60),2) -> 64 | G61: =+PRESUPUESTO!C17 -> M2
B66: =+B54 -> MANTENIMIENTO INTEGRAL DE LA COMPAÑIA DE CUERPO DE BOMBERO CASCOL PERTENECIENTE AL CANTON PAJAN
A67: =+PRESUPUESTO!A18 -> 5 | B67: =+PRESUPUESTO!B18 -> DESINTALACION DE PANEL DE BREAKER Y RED DE INSTALACION ELECTRICA EXISTENTE
A68: Refer. | C68: DIMENSIONES | F68: SUBTOTAL | H68: =+PRESUPUESTO!#REF! -> #REF!
B69: # ELEMENTO | D69: U
...

Sheet CRONOGRAMAS
B4: BENEMÉRITO CUERPO DE BOMBEROS DEL CANTÓN PAJÁN
B5: CRNL. ROBERTO PEÑAFIEL RODRÍGUEZ
A6: PROVINCIA DEL GUAYAS - ECUADOR
B7: CRONOGRAMA VALORADO DE TRABAJO
C8: PROYECTO: | D8: =+FORMATO!C9 -> MANTENIMIENTO INTEGRAL DE LA COMPAÑIA DE CUERPO DE BOMBERO CASCOL PERTENECIENTE AL CANTON PAJAN
C9: =+FORMATO!B8 -> FECHA: | D9: =+FORMATO!C8 -> PAJAN, AGOSTO DE 2025
B10: ITEM | C10: DESCRIPCIÓN DEL RUBRO | E10: CANT. | F10: UNIDAD | G10: PRECIO | H10: PRECIO | I10: TIEMPO EN: 45 DIAS
G11: UNITARIO | H11: TOTAL | I11: 45 DIAS | M11: =(7*8) -> 56
C12: =+PRESUPUESTO!B13 -> COMPAÑÍA DE BOMBERO DE CASCOL
B13: =PRESUPUESTO!A14 -> 1 | C13: =PRESUPUESTO!B14 -> DEMOLICION DE ESCTRUCTURAS DE HORMIGON | E13: =PRESUPUESTO!D14 -> 14.1 | F13: =PRESUPUESTO!C14 -> M2 | G13: =PRESUPUESTO!E14 -> 4.1 | H13: =+E13*G13 -> 57.81 | I13: 1 | K13: =+SUM(I13:J13) -> 1
I14: =H13*I13 -> 57.81
B15: =PRESUPUESTO!A15 -> 2 | C15: =PRESUPUESTO!B15 -> HORMIGÓN SIMPLE PARA CONTRAPISO DE ESP. = 5 CM F´C = 210 KG/CM3 | E15: =PRESUPUESTO!D15 -> 48.69 | F15: =PRESUPUESTO!C15 -> M2 | G15: =PRESUPUESTO!E15 -> 18 | H15: =+E15*G15 -> 876.42 | I15: 1 | K15: =+SUM(I15:J15) -> 1
I16: =H15*I15 -> 876.42
B17: =PRESUPUESTO!A16 -> 3 | C17: =PRESUPUESTO!B16 -> REMOCION DE CERAMICA EXISTENTE EN PISOS Y PAREDES | E17: =PRESUPUESTO!D16 -> 1 | F17: =PRESUPUESTO!C16 -> U | G17: =PRESUPUESTO!E16 -> 300 | H17: =+E17*G17 -> 300 | I17: 1 | K17: =+SUM(I17:J17) -> 1
I18: =H17*I17 -> 300
B19: =PRESUPUESTO!A17 -> 4 | C19: =PRESUPUESTO!B17 -> ENLUCIDO EXTERIOR .E= 2,0 CM | E19: =PRESUPUESTO!D17 -> 64 | F19: =PRESUPUESTO!C17 -> M2 | G19: =PRESUPUESTO!E17 -> 11.75 | H19: =+E19*G19 -> 752 | I19: 1 | K19: =+SUM(I19:J19) -> 1
I20: =H19*I19 -> 752
B21: =PRESUPUESTO!A18 -> 5 | C21: =PRESUPUESTO!B18 -> DESINTALACION DE PANEL DE BREAKER Y RED DE INSTALACION ELECTRICA EXISTENTE | E21: =PRESUPUESTO!D18 -> 1 | F21: =PRESUPUESTO!C18 -> U | G21: =PRESUPUESTO!E18 -> 90 | H21: =+E21*G21 -> 90 | I21: 1 | K21: =+SUM(I21:J21) -> 1
I22: =H21*I21 -> 90
B23: =PRESUPUESTO!A19 -> 6 | C23: =PRESUPUESTO!B19 -> SUMINISTRO E INSTALACION DE PANEL DE BREACKER | E23: =PRESUPUESTO!D19 -> 1 | F23: =PRESUPUESTO!C19 -> U | G23: =PRESUPUESTO!E19 -> 400 | H23: =+E23*G23 -> 400 | I23: 1 | K23: =+SUM(I23:J23) -> 1
I24: =H23*I23 -> 400
B25: =PRESUPUESTO!A20 -> 7 | C25: =PRESUPUESTO!B20 -> IMPERMEABILIZADA Y ELIMINACION DE SALITRE EN MAMPOSTERIA | E25: =PRESUPUESTO!D20 -> 92.61 | F25: =PRESUPUESTO!C20 -> M2 | G25: =PRESUPUESTO!E20 -> 9 | H25: =+E25*G25 -> 833.49 | I25: 1 | K25: =+SUM(I25:J25) -> 1
I26: =H25*I25 -> 833.49
B27: =PRESUPUESTO!A21 -> 8 | C27: =PRESUPUESTO!B21 -> PINTURA ESMALTE EXTERIOR (LIJADO, EMPASTE, SELLADOR Y DOS MANOS DE PINTURA) | E27: =PRESUPUESTO!D21 -> 183.55 | F27: =PRESUPUESTO!C21 -> M2 | G27: =PRESUPUESTO!E21 -> 7.4 | H27: =+E27*G27 -> 1358.27 | I27: 1 | K27: =+SUM(I27:J27) -> 1
I28: =H27*I27 -> 1358.27
B29: =PRESUPUESTO!A22 -> 9 | C29: =PRESUPUESTO!B22 -> PINTURA ESMALTE INTERIOR (LIJADO, EMPASTE, SELLADOR Y DOS MANOS DE PINTURA) | E29: =PRESUPUESTO!D22 -> 151.55 | F29: =PRESUPUESTO!C22 -> M2 | G29: =PRESUPUESTO!E22 -> 6.4 | H29: =+E29*G29 -> 969.92 | I29: 1 | K29: =+SUM(I29:J29) -> 1
I30: =H29*I29 -> 969.92
B31: =PRESUPUESTO!A23 -> 10 | C31: =PRESUPUESTO!B23 -> PINTURA ANTICORROSIVA EN PERFILES DE CUBIERTA | E31: =PRESUPUESTO!D23 -> 1 | F31: =PRESUPUESTO!C23 -> U | G31: =PRESUPUESTO!E23 -> 400 | H31: =+E31*G31 -> 400 | I31: 1 | K31: =+SUM(I31:J31) -> 1
I32: =H31*I31 -> 400
B33: =PRESUPUESTO!A24 -> 11 | C33: =PRESUPUESTO!B24 -> MANTENIMIENTO DE PUERTA DE INGRESO (INCLUYE PINTURA Y PLANCHA MICROPERFORADA | E33: =PRESUPUESTO!D24 -> 1 | F33: =PRESUPUESTO!C24 -> U | G33: =PRESUPUESTO!E24 -> 906.8 | H33: =+E33*G33 -> 906.8 | I33: 1 | K33: =+SUM(I33:J33) -> 1
I34: =H33*I33 -> 906.8
B35: =PRESUPUESTO!A25 -> 12 | C35: =PRESUPUESTO!B25 -> CERÁMICA PISO DE EXCELENTE CALIDAD | E35: =PRESUPUESTO!D25 -> 48.69 | F35: =PRESUPUESTO!C25 -> M2 | G35: =PRESUPUESTO!E25 -> 26 | H35: =+E35*G35 -> 1265.94 | I35: 1 | K35: =+SUM(I35:I35) -> 1
I36: =H35*I35 -> 1265.94
B37: =PRESUPUESTO!A26 -> 13 | C37: =PRESUPUESTO!B26 -> CERÁMICA EN PAREDES DE EXCELENTE CALIDAD | E37: =PRESUPUESTO!D26 -> 18.5 | F37: =PRESUPUESTO!C26 -> M2 | G37: =PRESUPUESTO!E26 -> 24.1 | H37: =+E37*G37 -> 445.85 | I37: 1 | K37: =+SUM(I37:J37) -> 1
I38: =H37*I37 -> 445.85
B39: =PRESUPUESTO!A27 -> 14 | C39: =PRESUPUESTO!B27 -> SUMINISTRO Y COLOCACION DE PLANCHA DE GRANITO (INCLUYE ACABADOS Y RODONES) | E39: =PRESUPUESTO!D27 -> 2.91 | F39: =PRESUPUESTO!C27 -> M2 | G39: =PRESUPUESTO!E27 -> 99 | H39: =+E39*G39 -> 288.09 | I39: 1 | K39: =+SUM(I39:J39) -> 1
I40: =H39*I39 -> 288.09
B41: =PRESUPUESTO!A28 -> 15 | C41: =PRESUPUESTO!B28 -> SUMINISTRO E INSTALACION DE FREGADERO DE ACERO INOXIDABLE | E41: =PRESUPUESTO!D28 -> 1 | F41: =PRESUPUESTO!C28 -> U | G41: =PRESUPUESTO!E28 -> 155 | H41: =+E41*G41 -> 155 | I41: 1 | K41: =+SUM(I41:I41) -> 1
I42: =H41*I41 -> 155
B43: =PRESUPUESTO!A29 -> 16 | C43: =PRESUPUESTO!B29 -> PROVISIÓN E INSTALACIÓN DE TUMBADO FALSO DE PVC | E43: =PRESUPUESTO!D29 -> 51.75 | F43: =PRESUPUESTO!C29 -> M2 | G43: =PRESUPUESTO!E29 -> 25.2 | H43: =+E43*G43 -> 1304.1 | I43: 1 | K43: =+SUM(I43:I43) -> 1
...

Sheet MATERIALES
C1: C | D1: D | E1: E | F1: G | G1: 25000
C2: LISTA DE MATERIALES A ABRIL DEL 2001
C3: COD. | D3: DESCRIPCION | E3: U. | F3: COSTO $
C4: ACERO EN BARRAS
B5: 1 | C5: 1010 | D5: Acero de refuerzo fy=4200 kg/cm2 | E5: kg | F5: 1.2
B6: =B5+1 -> 2 | C6: 1065 | D6: Viga ARMEX V1 St. | E6: ml | F6: 0.98
B7: =B6+1 -> 3 | C7: 1066 | D7: Viga ARMEX V2 St. | E7: ml | F7: 1.01
B8: =B7+1 -> 4 | C8: 1070 | D8: Malla electrosoldada de ,6 mm 10x10 | E8: m2 | F8: 5.2
B9: =B8+1 -> 5 | C9: 1080 | D9: Malla electro ARMEX R-188 (6.15) | E9: m2 | F9: 1.71
B10: =B9+1 -> 6 | C10: 1085 | D10: Malla M 10 15 (6.25x2.40) | E10: m2 | F10: 11.58
B11: =B10+1 -> 7 | C11: 1086 | D11: Malla electro corrugada 6,25 x 2,4 (6.15) | E11: kg | F11: 1.4
B12: =B11+1 -> 8 | C12: 1090 | D12: Varilla cuadrada 1/2" x 6ml | E12: u | F12: 9.41
B13: =B12+1 -> 9 | C13: 1095 | D13: Hierro redondo 1/2"x6ml lisox0.80mm. | E13: u | F13: 3.05
B14: =B13+1 -> 10 | C14: ALCANTARILLAS METALICAS | D14: Perfil de acero | E14: kg | F14: 1.25
B15: =B14+1 -> 11 | C15: 1501 | D15: Tub. met.encajable D=.91mts,e=2.0 | E15: ml. | F15: 16.89
B16: =B15+1 -> 12 | C16: 1502 | D16: Tub. met.encajable D=1.07m.,e=2.5 mm | E16: ml. | F16: 22.65
B17: =B16+1 -> 13 | C17: 1503 | D17: Tapa de Hierro Fundido D=24" | E17: pza | F17: 50
B18: =B17+1 -> 14 | C18: 1504 | D18: Cerco de Hierro Fundido D=24" | E18: pza | F18: 30
B19: =B18+1 -> 15 | C19: PERFILES ESTRUCTURALES
B20: =B19+1 -> 16 | C20: 2000 | D20: Angulos 20x20x2, 0.58 Kg/m, 6mts | E20: u | F20: 2.17 | G20: =0.45*0.58*6 -> 1.566
B21: =B20+1 -> 17 | C21: 2001 | D21: Angulos 20x20x3, 0.83 Kg/m, 6mts | E21: u | F21: 2.87
B22: =B21+1 -> 18 | C22: 2002 | D22: Angulos 25x25x2, 0.73 Kg/m, 6mts | E22: u | F22: 2.55
B23: =B22+1 -> 19 | C23: 2003 | D23: Angulos 25x25x3, 1.06 Kg/m, 6mts | E23: u | F23: 8.79
B24: =B23+1 -> 20 | C24: 2004 | D24: Angulos 30x30x2, 0.89 Kg/m, 6 mts | E24: u | F24: 8.86
B25: =B24+1 -> 21 | C25: 2005 | D25: Angulos 30x30x3, 1.3 Kg/m, 6 mts | E25: u | F25: 12.08
B26: =B25+1 -> 22 | C26: 2006 | D26: Angulos 30x30x4, 1.68 Kg/m, 6 mts. | E26: u | F26: 5.85
B27: =B26+1 -> 23 | C27: 2007 | D27: Angulos 40x40x2, 1.20 Kg/m, 6 mts. | E27: u | F27: 5.99
B28: =B27+1 -> 24 | C28: 2008 | D28: Angulos 40x40x3, 1.77 Kg/m, 6 mts. | E28: u | F28: 6.98
B29: =B28+1 -> 25 | C29: 2009 | D29: Angulos 40x40x4, 2.31 Kg/m, 6 mts. | E29: u | F29: 7.88
B30: =B29+1 -> 26 | C30: 2010 | D30: Angulos 40x40x5, 2.82 Kg/m, 6 mts. | E30: u | F30: 12.25
B31: =B30+1 -> 27 | C31: 2011 | D31: Angulos 50x50x2, 1.52 Kg/m, 6 mts | E31: u | F31: 10.12
B32: =B31+1 -> 28 | C32: 2012 | D32: Angulos 50x50x3, 2.24 Kg/m, 6 mts | E32: u | F32: 7.96
... B81: =B80+1 -> 77 | C81: 2224 | D81: Plancha 1/32"x 0.75,negra | E81: u | F81: 8.41
B82: =B81+1 -> 78 | C82: ALUMINIO Y VIDRIO
B83: =B82+1 -> 79 | C83: 3005 | D83: Vidrio Claro de 2mm. (importado) | E83: m2 | F83: 7.86
B84: =B83+1 -> 80 | C84: 3006 | D84: Vidrio Claro de 3mm.(importado) | E84: m2 | F84: 8.54
B85: =B84+1 -> 81 | C85: 3007 | D85: Vidrio Claro de 4mm (importado) | E85: m2 | F85: 12.58
B86: =B85+1 -> 82 | C86: 3008 | D86: Vidrio Claro de 5mm.(importado) | E86: m2 | F86: 11.89
B87: =B86+1 -> 83 | C87: 3009 | D87: Vidrio Claro de 6mm.(importado) | E87: m2 | F87: 7.59
B88: =B87+1 -> 84 | C88: 3010 | D88: Vidrio Bronce de 4mm.(importado) | E88: m2 | F88: 10.28
...

Sheet MANO DE OBRA
A1: A | B1: B | C1: C | D1: D | E1: E | F1: F | M1: FORMULARIO No.
E2: OTROS | F2: JORNAL REAL | J2: OFERENTE:
E3: BENEFICIOS | F3: HORA
T4: HOJA 1 DE 1
A5: 1 | B5: CAT. I | C5: Peon (estr.ocp. E2) | E5: =ROUND(D5*$C$2,3)*#REF! -> #REF! | F5: =V33 -> 4.23
A6: 2 | B6: CAT. II | C6: Ayudante (estr.ocp. E2) cat.II | E6: =ROUND(D6*$C$2,3)*#REF! -> #REF! | F6: =U33 -> 4.23 | J6: ANALISIS DE PRECIOS UNITARIOS . CUADRO AUXILIAR: COSTOS DE MANO DE OBRA ( en US Dolares)
A7: 3 | B7: CAT. III | C7: Albañil (estr.ocp. D2) cat III | E7: =ROUND(D7*$C$2,3)*#REF! -> #REF! | F7: =T33 -> 4.28
A8: 4 | B8: CAT. III | C8: Carpintero (estr.ocp. D2) cat III | E8: =ROUND(D8*$C$2,3)*#REF! -> #REF! | F8: =T33 -> 4.28 | L8: EST.OCP. C2 | M8: ESTR.OCP.C1 | N8: ESTR.OCP.C2 | P8: ESTR.OCP.C1 | Q8: ESTR.OCP.D2 | R8: ESTR.OCP.C1 | S8: ESTR.OCP.C2 | T8: ESTR.OCP.D2 | U8: ESTR.OCP.E2 | V8: ESTR.OCP. E2 | AA8: =95.1+10 -> 105.1 | AB8: =92.53+10 -> 102.53 | AC8: =91.32+10 -> 101.32 | AD8: =89.7+10 -> 99.7
A9: 5 | B9: CAT. III | C9: Fierrero (estr.ocp. D2) cat III | E9: =ROUND(D9*$C$2,3)*#REF! -> #REF! | F9: =T33 -> 4.28 | J9: CATEGORIA/CARGO | L9: TOPOGRAFO | M9: OPERADORES | N9: OPERADORES | O9: CHOFER | P9: MECANICOS | Q9: SIN TITULO | T9: CAT (III) | U9: CAT (II) | V9: CAT (I)
A10: 6 | B10: CAT. III | C10: Pintor (estr.ocp. D2) cat.III | E10: =ROUND(D10*$C$2,3)*#REF! -> #REF! | F10: =T33 -> 4.28 | M10: OP.I | N10: OP.II | O10: "E" | P10: SOLDADOR | Q10: AYUD. MEC.
A11: 7 | B11: CAT. III | C11: Electricista (estr.ocp. D2) cat.III | E11: =ROUND(D11*$C$2,3)*#REF! -> #REF! | F11: =T33 -> 4.28 | M11: RETROEXCAVADORA | N11: RODILLO LISO | O11: VOLQUETE | R11: MAESTRO | S11: TECNICO OBRAS | T11: ALBANIL | U11: AYUDANTE | V11: PEON
A12: 8 | B12: CAT. III | C12: Plomero (estr.ocp. D2) catIII | E12: =ROUND(D12*$C$2,3)*#REF! -> #REF! | F12: =T33 -> 4.28 | M12: MOTONIVELADORA | N12: RODILLO NEUMATICO | R12: MAYOR | S12: CIVILES | T12: CARPINTERO | U12: GUARDIAN
A13: 9 | B13: CAT. III | C13: Instalador (estr.ocp. D2) cat.III | E13: =ROUND(D13*$C$2,3)*#REF! -> #REF! | F13: =T33 -> 4.28 | M13: TRACTOR | N13: FINISHER | R13: MAESTRO | T13: PINTOR
A14: 10 | B14: CAT. III | C14: Techador (estr.ocp. D2) cat.III | E14: =ROUND(D14*$C$2,3)*#REF! -> #REF! | F14: =T33 -> 4.28 | M14: EXCAVADORA | N14: DISTRIB. ASFALTO | R14: ELECTRICISTA | T14: PLOMERO
A15: 11 | B15: CAT. IV | C15: Maestro (estr.ocp. C1) | E15: =ROUND(D15*$C$2,3)*#REF! -> #REF! | F15: =R33 -> 4.75 | M15: GRUA | N15: COMPRESOR | T15: ELECTRICISTA
A16: 12 | B16: OP. I | C16: OP. Retroexcavadora | E16: =ROUND(D16*$C$2,3)*#REF! -> #REF! | F16: =M33 -> 4.75 | T16: INSTALADOR
A17: 13 | B17: OP. I | C17: OP. Motoniveladora | E17: =ROUND(D17*$C$2,3)*#REF! -> #REF! | F17: =M33 -> 4.75
A18: 14 | B18: OP. I | C18: OP. Excavadora/Motoniveladora | E18: =ROUND(D18*$C$2,3)*#REF! -> #REF! | F18: =M33 -> 4.75 | J18: SALARIO DIARIO UNIFICADO NOMINAL | L18: 18.154667 | M18: 18.154667 | N18: 17.231333 | O18: 24.081333 | P18: 18.154667 | Q18: 16.283333 | R18: 18.154667 | S18: 17.231333 | T18: 16.283333 | U18: 16.074 | V18: 16.074
A19: 15 | B19: OP. I | C19: OP. Tractor / Grua | E19: =ROUND(D19*$C$2,3)*#REF! -> #REF! | F19: =+M33 -> 4.75 | J19: MENSUAL NOMINAL (2) | L19: 544.64 | M19: 544.64 | N19: 516.94 | O19: 722.44 | P19: 544.64 | Q19: 488.5 | R19: 544.64 | S19: 516.94 | T19: 488.5 | U19: 482.22 | V19: 482.22
A20: 16 | B20: OP. I | C20: Operador I | E20: =ROUND(D20*$C$2,3)*#REF! -> #REF! | F20: =+M33 -> 4.75 | J20: ANUAL NOMINAL | L20: 6535.68 | M20: 6535.68 | N20: 6203.28 | O20: 8669.28 | P20: 6535.68 | Q20: 5862 | R20: 6535.68 | S20: 6203.28 | T20: 5862 | U20: 5786.64 | V20: 5786.64
A21: 17 | B21: OP. I | C21: OP. Cargadora Frontal | E21: =ROUND(D21*$C$2,3)*#REF! -> #REF! | F21: =+M33 -> 4.75 | J21: COMPENSACION SALARIAL EN PROCESO DE INCORPORACION | L21: 0 | M21: 0 | N21: 0 | O21: 0 | P21: 0 | Q21: 0 | R21: 0 | S21: 0 | T21: 0 | U21: 0 | V21: 0 | AA21: 163 | AB21: =((564000+500000+50000+70500+750000)/25000)+8+21 -> 106.38 | AC21: =((346000+500000+43250+50000+750000)/25000)+8+21 -> 96.57 | AD21: =((298000+500000+50000+37250+750000)/25000)+8+21 -> 94.41 | AE21: =((380000+47500+500000+50000+750000)/25000)+8+21+10 -> 108.1 | AF21: =((297000+500000+50000+37125+750000)/25000)+8+21+10 -> 104.365 | AG21: =((270000+500000+50000+33750+750000)/25000)+8+21+10 -> 103.15 | AH21: =((234000+500000+50000+29250+750000)/25000)+8+21+10 -> 101.53
A22: 18 | B22: OP. II | C22: OP. Rodillo | E22: =ROUND(D22*$C$2,3)*#REF! -> #REF! | F22: =$N$33 -> 4.52 | J22: TRANSPORTE | L22: 0 | M22: 0 | N22: 0 | O22: 0 | P22: 0 | Q22: 0 | R22: 0 | S22: 0 | T22: 0 | U22: 0 | V22: 0
A23: 19 | B23: OP. II | C23: OP. Martillo Neomatico | E23: =ROUND(D23*$C$2,3)*#REF! -> #REF! | F23: =$N$33 -> 4.52 | J23: 13 er SUELDO | L23: 544.64 | M23: 544.64 | N23: 516.94 | O23: 722.44 | P23: 544.64 | Q23: 488.5 | R23: 544.64 | S23: 516.94 | T23: 488.5 | U23: 482.22 | V23: 482.22
A24: 20 | B24: OP. II | C24: OP. Compresor | E24: =ROUND(D24*$C$2,3)*#REF! -> #REF! | F24: =$N$33 -> 4.52 | J24: 14 to SUELDO | L24: 470 | M24: 470 | N24: 470 | O24: 470 | P24: 470 | Q24: 470 | R24: 470 | S24: 470 | T24: 470 | U24: 470 | V24: 470
A25: 21 | B25: OP. II | C25: OP. Escoba, Finisher | E25: =ROUND(D25*$C$2,3)*#REF! -> #REF! | F25: =$N$33 -> 4.52 | J25: APORTE PATRONAL | L25: 794.08 | M25: 794.08 | N25: 753.69 | O25: 1053.31 | P25: 794.08 | Q25: 712.23 | R25: 794.08 | S25: 753.69 | T25: 712.22812 | U25: 703.07 | V25: 703.07
A26: 22 | B26: TOPG. I | C26: Topografo | E26: =ROUND(D26*$C$2,3)*#REF! -> #REF! | F26: =L33 -> 4.75 | J26: FONDO DE RESERVA | L26: 544.64 | M26: 544.64 | N26: 516.94 | O26: 722.44 | P26: 544.64 | Q26: 488.5 | R26: 544.64 | S26: 516.94 | T26: 488.5 | U26: 482.22 | V26: 482.22
A27: 23 | B27: CAD. | C27: Cadenero | E27: =ROUND(D27*$C$2,3)*#REF! -> #REF! | F27: =$T$33 -> 4.28 | L27: 0 | M27: 0 | N27: 0 | O27: 0 | P27: 0 | Q27: 0 | R27: 0 | S27: 0 | T27: 0 | U27: 0 | V27: 0 | AA27: =ROUND(AA20/24,2) -> 0 | AB27: =ROUND(AB20/24,2) -> 0 | AC27: =ROUND(AC20/24,2) -> 0 | AD27: =ROUND(AD20/24,2) -> 0
A28: 24 | B28: MEC. I | C28: Soldador ( estr.ocp. C1) | E28: =ROUND(D28*$C$2,3)*#REF! -> #REF! | F28: =P33 -> 4.75 | J28: OTROS CODIGOS DE TRABAJO | L28: 0 | M28: 0 | N28: 0 | O28: 0 | P28: 0 | Q28: 0 | R28: 0 | S28: 0 | T28: 0 | U28: 0 | V28: 0
A29: 25 | B29: AY. MEC. | C29: Ayudante Mec. | E29: =ROUND(D29*$C$2,3)*#REF! -> #REF! | F29: =Q33 -> 4.28 | J29: TOTAL ANUAL | L29: 8889.04 | M29: 8889.04 | N29: 8460.85 | O29: 11637.47 | P29: 8889.04 | Q29: 8021.23 | R29: 8889.04 | S29: 8460.85 | T29: 8021.23 | U29: 7924.15 | V29: 7924.15
A30: 26 | B30: CHOF. I | C30: Chofer I | E30: =ROUND(D30*$C$2,3)*#REF! -> #REF! | F30: =O33 -> 6.22 | J30: TOTAL MENSUAL | L30: 740.75 | M30: 740.75 | N30: 705.07 | O30: 969.79 | P30: 740.75 | Q30: 668.44 | R30: 740.75 | S30: 705.07 | T30: 668.44 | U30: 660.35 | V30: 660.35
A31: 27 | B31: CHOF. II | C31: Chofer tipo E | E31: =ROUND(D31*$C$2,3)*#REF! -> #REF! | F31: =O33 -> 6.22 | J31: FACTOR DE SALARIO REAL | L31: 2.11 | M31: 2.11 | N31: 2.11 | O31: 2.11 | P31: 2.11 | Q31: 2.11 | R31: 2.11 | S31: 2.11 | T31: 2.11 | U31: 2.11 | V31: 2.1
A32: 28 | B32: CHOF. III | C32: Chofer III | E32: =ROUND(D32*$C$2,3)*#REF! -> #REF! | F32: =O33 -> 6.22 | J32: MENSUAL REAL | L32: 1149.19 | M32: 1149.19 | N32: 1090.74 | O32: 1524.35 | P32: 1149.19 | Q32: 1030.74 | R32: 1149.19 | S32: 1090.74 | T32: 1030.74 | U32: 1017.48 | V32: 1012.66
A33: 29 | B33: CAT. V | C33: Maestro (estr.ocp. C1) | E33: =ROUND(D33*$C$2,3)*#REF! -> #REF! | F33: =R33 -> 4.75 | J33: COSTO HORARIO | L33: 4.75 | M33: 4.75 | N33: 4.52 | O33: 6.22 | P33: 4.75 | Q33: 4.28 | R33: 4.75 | S33: 4.52 | T33: 4.28 | U33: 4.23 | V33: 4.23
A34: 30
A35: 31
A36: 32
A37: 33 | Q37: ºº
A38: !! NO LLENAR ESTA FILA !!
K39: =FORMATO!$C$8 -> PAJAN, AGOSTO DE 2025
A40: TRANSPORTE | D40: D.M.T. | E40: M3 Ton/Km | F40: COSTO
...

Sheet FORMATO
B1: B | C1: C
B2: GANADOR
B3: CUADRO DE CANTIDADES Y PRECIOS
A4: 2 | B4: RUBRO: | G4: FIRMA= | H4: FIRMA | P4: OFERENTE : | U4: FORMULARIO No.
A5: 3 | B5: ELABORADO: | J5: OBRA: CONSTRUCCION DE CUARTEL DE BOMBEROS - UBICACIÓN: CERECITA | U5: HOJA 1 DE 1
B6: UNIDAD | J6: . | R6: =$C$9 -> MANTENIMIENTO INTEGRAL DE LA COMPAÑIA DE CUERPO DE BOMBERO CASCOL PERTENECIENTE AL CANTON PAJAN
B7: REND.
A8: 5 | B8: FECHA: | C8: PAJAN, AGOSTO DE 2025 | P8: ANALISIS DE PRECIOS UNITARIOS. CUADRO AUXILIAR: COSTOS INDIRECTOS Y UTILIDAD
B9: PROYECTO: | C9: MANTENIMIENTO INTEGRAL DE LA COMPAÑIA DE CUERPO DE BOMBERO CASCOL PERTENECIENTE AL CANTON PAJAN
B10: DETALLE: | C10: CANTON PAJAN
B11: DESCRIPCION | C11: UN. | D11: CANT. | E11: P.UNIT | F11: P.TOTAL
U12: OBSERVACION
B13: PRESUPUESTO OFERTADO | J13: ANÁLISIS DE PRECIOS UNITARIOS | P13: No. | Q13: COMPONENTES DEL COSTO INDIRECTO | T13: VALOR
B14: OFERTANTE: | C14: jose juaquin | J14: ITEM
B15: PROYECTO: | J15: UNIDAD
B16: UBICACIÓN: | J16: REND. | Q16: Dirección de obra | T16: =T$33*X16 -> #REF! | U16: 3 | X16: =3/15 -> 0.2 | AJ16: Dirección de obra
B17: FECHA: | C17: Pedro Carbo Agosto 2024 | Q17: Administrativos | T17: =T$33*X17 -> #REF! | U17: 4 | X17: =4/15 -> 0.26666667 | AJ17: Administrativos
B18: RUBRO: | J18: PRECIO SIN IVA | Q18: Locales provisionales | T18: =U18*#REF!/100 -> #REF! | U18: 0 | AJ18: Locales provisionales
B19: DESCRIPCION: | Q19: Vehículos | T19: =U19*#REF!/100 -> #REF! | U19: 0 | AJ19: Vehículos
B20: DESCRIPCION | C20: U. | D20: CANTIDAD | E20: COSTO U. | F20: COSTO T. | Q20: Servicios públicos | T20: =U20*#REF!/100 -> #REF! | U20: 0 | AJ20: Servicios públicos
Q21: Promoción | T21: =U21*#REF!/100 -> #REF! | U21: 0 | AJ21: Promoción
B22: Presupuesto | Q22: Garantías | T22: =U22*#REF!/100 -> #REF! | U22: 0 | AJ22: Garantías
B23: Obra: | Q23: Seguros | T23: =T$33*X23 -> #REF! | U23: 1 | X23: =1/15 -> 0.066666667 | AJ23: Seguros
B24: Ofertante: | C24: jose juaquim | Q24: Costos financieros | T24: =T$33*X24 -> #REF! | U24: 1.5 | X24: =1.5/15 -> 0.1 | AJ24: Costos financieros
B25: Lugar: | Q25: Prevención de accidentes | T25: =T$33*X25 -> #REF! | U25: 0.5 | X25: =0.5/15 -> 0.033333333 | AJ25: Prevención de accidentes
B26: Fecha:
AJ27: Utilidad
AJ28: Total de indirectos
B30: Descripción: | Q30: Utilidad | T30: =T$33*X30 -> #REF! | U30: 5 | X30: =5/15 -> 0.33333333
B31: Descripción | C31: U. | D31: Cantidad | E31: P. Unitario | F31: P. Total
Q32: TOTAL COSTO INDIRECTO Y UTILIDAD | T32: =SUM(T16:T30) -> #REF! | U32: =SUM(U16:U30) -> 15 | X32: =SUM(X16:X30) -> 1
T33: =T57 -> #REF!
Q34: TOTAL COSTO DIRECTOS | T34: =T59 -> #REF!
Q35: FACTOR (PORCENTAJE) % | T35: =T32/T34 -> #REF!
A36: 8
B37: INDIRECTO: | C37: 0.2
Q38: =C8 -> PAJAN, AGOSTO DE 2025
B40: DESGLOSE DE COSTOS INDIRECTOS
B42: Descripción | E42: %
B44: Gastos Finacieros | E44: 0.15
...
